BEGIN:VCALENDAR
VERSION:2.0
BEGIN:VEVENT
SUMMARY:Reach out to M&T Bank about Multicultural Small Business Accelerator - Frederick
DESCRIPTION:Reach out to them for information about their program.\n\nDescription: A free 10-week virtual accelerator delivered via Cisco Webex in partnership with Frederick County Office of Economic Development. Open to racially and ethnically diverse businesses up to 24 months old. Accepts up to 100 participants per cohort. Includes a pitch competition with a $5K grand prize. The 2025 cohort ran February through April.\n\n- Phone: (301) 600-1058\n- Email: sknight@frederickcountymd.gov\n- Source: https://founder-nav.com/programs/recIvEDE6awGPFG8j\n\n---\nBrought to you by Founder Nav, helping entrepreneurs navigate the entrepreneurial ecosystem.
DTSTART:20260425T100053Z
DTEND:20260425T103053Z
END:VEVENT
END:VCALENDAR