BEGIN:VCALENDAR
VERSION:2.0
BEGIN:VEVENT
SUMMARY:Reach out to Maryland Energy Innovation Accelerator about MEIA Manufacturing Accelerator
DESCRIPTION:Reach out to them for information about their program.\n\nDescription: An intensive accelerator program for established clean energy and climate tech companies looking to advance product development, manufacturing, and scale. Provides access to early-stage capital through the Climate Technology Founders Fund, investor connections, fundraising preparation, and pitch coaching. Open to any Maryland-based company in the clean energy/climate tech space.\n\n- Source: https://founder-nav.com/programs/recIs3laR0R3WOMv6\n\n---\nBrought to you by Founder Nav, helping entrepreneurs navigate the entrepreneurial ecosystem.
DTSTART:20260425T100027Z
DTEND:20260425T103027Z
END:VEVENT
END:VCALENDAR