BEGIN:VCALENDAR
VERSION:2.0
BEGIN:VEVENT
SUMMARY:Reach out to SCORE – Wichita about Free Business Mentoring
DESCRIPTION:Reach out to them for information about their program.\n\nDescription: Free, confidential one-on-one business mentoring from SCORE Greater Wichita's 35+ volunteer mentors who are experienced business owners and executives. Available in-person, by phone, email, or video conference for startups and existing businesses at all stages.\n\n- Phone: (316) 239-1131\n- Source: https://founder-nav.com/programs/recIrAIOo5v2m3c5W\n\n---\nBrought to you by Founder Nav, helping entrepreneurs navigate the entrepreneurial ecosystem.
DTSTART:20260425T100031Z
DTEND:20260425T103031Z
END:VEVENT
END:VCALENDAR