BEGIN:VCALENDAR
VERSION:2.0
BEGIN:VEVENT
SUMMARY:Reach out to Trailhead about Idaho Startup Lab
DESCRIPTION:Reach out to them for information about their program.\n\nDescription: An interactive, 4-session cohort program at Trailhead Boise guiding early-stage entrepreneurs from idea to action through idea refinement, market validation, business modeling, and prototype/MVP planning.\n\n- Email: info@trailheadboise.org\n- Source: https://founder-nav.com/programs/recIr4VTFE43z10Vf\n\n---\nBrought to you by Founder Nav, helping entrepreneurs navigate the entrepreneurial ecosystem.
DTSTART:20260425T100004Z
DTEND:20260425T103004Z
END:VEVENT
END:VCALENDAR