BEGIN:VCALENDAR
VERSION:2.0
BEGIN:VEVENT
SUMMARY:Reach out to Incubators & Labs at Hagerstown Community College about Culinary Incubator at HCC
DESCRIPTION:Reach out to them for information about their program.\n\nDescription: A culinary-focused incubator program at Hagerstown Community College that provides aspiring food entrepreneurs, caterers, and consumer packaged goods producers with access to a shared commercial kitchen, business guidance, mentorship, and support to launch and grow culinary businesses in Washington County, Maryland.\n\n- Source: https://founder-nav.com/programs/recIp2xeep9J9LJfW\n\n---\nBrought to you by Founder Nav, helping entrepreneurs navigate the entrepreneurial ecosystem.
DTSTART:20260425T100038Z
DTEND:20260425T103038Z
END:VEVENT
END:VCALENDAR