BEGIN:VCALENDAR
VERSION:2.0
BEGIN:VEVENT
SUMMARY:Reach out to Iowa G2M Accelerator about Iowa Go-To-Market (G2M) Accelerator
DESCRIPTION:Reach out to them for information about their program.\n\nDescription: 8-month go-to-market accelerator for high-tech Iowa startups, providing coaching, mentorship, and connections to commercialize innovations and scale revenue.\n\n- Email: sbrody@bioconnectiowa.org\n- Source: https://founder-nav.com/programs/recIjAASv1vLq20OH\n\n---\nBrought to you by Founder Nav, helping entrepreneurs navigate the entrepreneurial ecosystem.
DTSTART:20260425T100025Z
DTEND:20260425T103025Z
END:VEVENT
END:VCALENDAR