BEGIN:VCALENDAR
VERSION:2.0
BEGIN:VEVENT
SUMMARY:Reach out to The EDGE at 321 about IDEA Lab
DESCRIPTION:Reach out to them for information about their program.\n\nDescription: The Innovation Driven Entrepreneurship Accelerator (IDEA) Lab is a community-based program at FITCI that provides entrepreneurship education, peer learning, and early-stage business support to aspiring entrepreneurs in the Frederick community. Funded in part by a Truist Foundation grant, the IDEA Lab serves entrepreneurs at the earliest stages of business ideation and development.\n\n- Source: https://founder-nav.com/programs/recIZ2i3Q6D9kA34V\n\n---\nBrought to you by Founder Nav, helping entrepreneurs navigate the entrepreneurial ecosystem.
DTSTART:20260425T100007Z
DTEND:20260425T103007Z
END:VEVENT
END:VCALENDAR