BEGIN:VCALENDAR
VERSION:2.0
BEGIN:VEVENT
SUMMARY:Reach out to SCORE Greater Baltimore about SCORE Greater Baltimore Business Mentoring
DESCRIPTION:Reach out to them for information about their program.\n\nDescription: Provides free mentoring and expert guidance to help startups and existing small businesses open new markets, reach more customers, and achieve growth goals through personalized support from experienced business professionals.\n\n- Phone: (800) 634-0245\n- Source: https://founder-nav.com/programs/recIOsAWqYoG2WR4n\n\n---\nBrought to you by Founder Nav, helping entrepreneurs navigate the entrepreneurial ecosystem.
DTSTART:20260424T100019Z
DTEND:20260424T103019Z
END:VEVENT
END:VCALENDAR