BEGIN:VCALENDAR
VERSION:2.0
BEGIN:VEVENT
SUMMARY:Reach out to University of Maine – Center for Cooperative Aquaculture Research (CCAR) about Aquaculture Business Incubator
DESCRIPTION:Reach out to them for information about their program.\n\nDescription: Aquaculture incubator space at UMaine's Center for Cooperative Aquaculture Research (CCAR) in Franklin, established 2001. Provides tank space with flowing/recirculating fresh and saltwater systems, office space, access to university researchers, business counselors, and links to Top Gun accelerator.\n\n- Phone: (207) 832-1075\n- Email: christopher.v.davis@gmail.com\n- Source: https://founder-nav.com/programs/recINeOfpuoXUiGYm\n\n---\nBrought to you by Founder Nav, helping entrepreneurs navigate the entrepreneurial ecosystem.
DTSTART:20260425T100010Z
DTEND:20260425T103010Z
END:VEVENT
END:VCALENDAR