BEGIN:VCALENDAR
VERSION:2.0
BEGIN:VEVENT
SUMMARY:Reach out to Connecticut Small Business Development Center – Middlesex County about Workshops, Webinars & Online Business Courses
DESCRIPTION:Reach out to them for information about their program.\n\nDescription: Free and low-cost online workshops, webinars, and on-demand courses covering business topics such as finance, marketing, intellectual property, government contracting, and more.\n\n- Phone: (877) 723-2828\n- Email: ctsbdc@uconn.edu\n- Source: https://founder-nav.com/programs/recI7Ov7ACk354dI9\n\n---\nBrought to you by Founder Nav, helping entrepreneurs navigate the entrepreneurial ecosystem.
DTSTART:20260425T100028Z
DTEND:20260425T103028Z
END:VEVENT
END:VCALENDAR