BEGIN:VCALENDAR
VERSION:2.0
BEGIN:VEVENT
SUMMARY:Reach out to Mid-Atlantic Veterans Business Outreach Center - The Groundfloor at Harford about VBOC Entrepreneurship Mentoring & Counseling
DESCRIPTION:Reach out to them for information about their program.\n\nDescription: Business mentoring, counseling, and entrepreneurship support services offered by the Mid-Atlantic VBOC at The GroundFloor at Harford incubator in Havre de Grace. Provides veteran entrepreneurs in northern Maryland and the Aberdeen Proving Ground area with free one-on-one business counseling, mentoring, and connections to local resources.\n\n- Source: https://founder-nav.com/programs/recI3dBAsiJ9LCqhV\n\n---\nBrought to you by Founder Nav, helping entrepreneurs navigate the entrepreneurial ecosystem.
DTSTART:20260425T100032Z
DTEND:20260425T103032Z
END:VEVENT
END:VCALENDAR