BEGIN:VCALENDAR
VERSION:2.0
BEGIN:VEVENT
SUMMARY:Reach out to MTEC SmartZone about SmartStart
DESCRIPTION:Reach out to them for information about their program.\n\nDescription: Excellent resource for anyone with a business idea. Our approach is designed to educate and guide entrepreneurs through the process of validating and growing their idea. You’ll develop essential entrepreneurial skills while building a roadmap that details your business opportunity. After completing the program, you’ll have a solid understanding of what it takes to create a sustainable business.\n\n- Phone: (906) 523-1927\n- Email: jmack@mtecsz.com\n- Source: https://founder-nav.com/programs/recHyE9StDp2O6cQN\n\n---\nBrought to you by Founder Nav, helping entrepreneurs navigate the entrepreneurial ecosystem.
DTSTART:20260425T100040Z
DTEND:20260425T103040Z
END:VEVENT
END:VCALENDAR