BEGIN:VCALENDAR
VERSION:2.0
BEGIN:VEVENT
SUMMARY:Reach out to Centro Community Partners about Start My Business (Basic Entrepreneurship Program)
DESCRIPTION:Reach out to them for information about their program.\n\nDescription: Provides free online training and coaching to help aspiring entrepreneurs build a solid business foundation, develop a business model, identify customers, and create profitable products or services, regardless of prior experience or education.\n\n- Phone: (510) 250-3233\n- Email: help@centrocommunity.org\n- Source: https://founder-nav.com/programs/recHw0inEjMEc15Z8\n\n---\nBrought to you by Founder Nav, helping entrepreneurs navigate the entrepreneurial ecosystem.
DTSTART:20260425T100012Z
DTEND:20260425T103012Z
END:VEVENT
END:VCALENDAR