BEGIN:VCALENDAR
VERSION:2.0
BEGIN:VEVENT
SUMMARY:Reach out to Alchemist Kitchen  about Alchemist Kitchen Incubator Program (AKIP)
DESCRIPTION:Reach out to them for information about their program.\n\nDescription: Offers ongoing one-on-one coaching, goal setting, and resource connections to help food entrepreneurs from under-resourced communities in Sacramento grow successful, fully permitted businesses. Only open to graduates of a foundational microenterprise academy.\n\n- Email: AlchemyKitchen@alchemistcdc.org\n- Source: https://founder-nav.com/programs/recHvuvcyKgJSqVaQ\n\n---\nBrought to you by Founder Nav, helping entrepreneurs navigate the entrepreneurial ecosystem.
DTSTART:20260425T100024Z
DTEND:20260425T103024Z
END:VEVENT
END:VCALENDAR