BEGIN:VCALENDAR
VERSION:2.0
BEGIN:VEVENT
SUMMARY:Reach out to Maine SBDC - Portland about Business Workshops & eCourses
DESCRIPTION:Reach out to them for information about their program.\n\nDescription: Free live webinars and 24/7 on-demand eCourses for Maine entrepreneurs covering all aspects of starting and running a business. Topics range from business plan fundamentals and financial templates to marketing, e-commerce, and more. Produced by Maine SBDC in partnership with USM.\n\n- Phone: (207) 780-4420\n- Email: mainesbdc@usm.maine.edu\n- Source: https://founder-nav.com/programs/recHuh0RGZFsHOAq6\n\n---\nBrought to you by Founder Nav, helping entrepreneurs navigate the entrepreneurial ecosystem.
DTSTART:20260425T100016Z
DTEND:20260425T103016Z
END:VEVENT
END:VCALENDAR