BEGIN:VCALENDAR
VERSION:2.0
BEGIN:VEVENT
SUMMARY:Reach out to XLR8HI – Hawaiʻi’s Entrepreneurship Center about preX Accelerator
DESCRIPTION:Reach out to them for information about their program.\n\nDescription: Free virtual hyper-accelerator by XLR8HI designed to help startups become investment-ready. The monthlong program covers fundraising strategy, pitch development, investor relations, and business model refinement. Has helped 124+ companies raise $50M+ and generate $115M+ in revenue.\n\n- Email: info@xlr8hi.com\n- Source: https://founder-nav.com/programs/recHtDVaNnMvusuit\n\n---\nBrought to you by Founder Nav, helping entrepreneurs navigate the entrepreneurial ecosystem.
DTSTART:20260425T100012Z
DTEND:20260425T103012Z
END:VEVENT
END:VCALENDAR