BEGIN:VCALENDAR
VERSION:2.0
BEGIN:VEVENT
SUMMARY:Reach out to Santa Cruz SBDC about SBDC Business Advising & Mentoring
DESCRIPTION:Reach out to them for information about their program.\n\nDescription: Provides confidential, no-cost business advising, training, and resources to help entrepreneurs and small businesses start, grow, or transition, covering areas like funding, marketing, compliance, and operations in the Santa Cruz region.\n\n- Phone: (831) 479-6136\n- Source: https://founder-nav.com/programs/recHqrxLbJMoxTBbS\n\n---\nBrought to you by Founder Nav, helping entrepreneurs navigate the entrepreneurial ecosystem.
DTSTART:20260425T100053Z
DTEND:20260425T103053Z
END:VEVENT
END:VCALENDAR