BEGIN:VCALENDAR
VERSION:2.0
BEGIN:VEVENT
SUMMARY:Reach out to UC Davis Venture Catalyst about Venture Catalyst START Program
DESCRIPTION:Reach out to them for information about their program.\n\nDescription: The Smart Toolkit for Accelerated Research Translation (START) Program equips UC Davis-affiliated entrepreneurs (faculty, students, staff, alumni) with tools to form and grow companies. Includes: LegalNet (free incorporation and legal consultation), VentureNet (preferred vendor rates for banking, accounting, insurance), investor pitch coaching, SBIR/STTR grant writing workshops, market intelligence (MICA) reports, and Angels on Campus investor feedback sessions.\n\n- Phone: (530) 752-1011\n- Source: https://founder-nav.com/programs/recHluPayqXiGVyM2\n\n---\nBrought to you by Founder Nav, helping entrepreneurs navigate the entrepreneurial ecosystem.
DTSTART:20260425T100032Z
DTEND:20260425T103032Z
END:VEVENT
END:VCALENDAR