BEGIN:VCALENDAR
VERSION:2.0
BEGIN:VEVENT
SUMMARY:Reach out to Start Garden about Start Garden
DESCRIPTION:Reach out to them for information about their program.\n\nDescription: Entrepreneurs thrive on the ability to collaborate and form relationships with like-minded people. Our co-working space makes finding new opportunities and collaborators more accessible. Join us to work, discuss or even launch something new.\n\n- Source: https://founder-nav.com/programs/recHh3ezvd7ICL910\n\n---\nBrought to you by Founder Nav, helping entrepreneurs navigate the entrepreneurial ecosystem.
DTSTART:20260425T100031Z
DTEND:20260425T103031Z
END:VEVENT
END:VCALENDAR