BEGIN:VCALENDAR
VERSION:2.0
BEGIN:VEVENT
SUMMARY:Reach out to Business Impact NW about Launch & Grow
DESCRIPTION:Reach out to them for information about their program.\n\nDescription: A comprehensive program for early-stage entrepreneurs offering seven 3-hour foundational sessions plus 8 weeks of one-on-one business coaching to build a strategic business plan for growth.\n\n- Phone: (208) 608-5174\n- Email: iwbc@businessimpactnw.org\n- Source: https://founder-nav.com/programs/recHg3A1Ka0mlrths\n\n---\nBrought to you by Founder Nav, helping entrepreneurs navigate the entrepreneurial ecosystem.
DTSTART:20260425T100025Z
DTEND:20260425T103025Z
END:VEVENT
END:VCALENDAR