BEGIN:VCALENDAR
VERSION:2.0
BEGIN:VEVENT
SUMMARY:Reach out to Student Startup Center about PLASMA Accelerator (Student Startup Center)
DESCRIPTION:Reach out to them for information about their program.\n\nDescription: UC Davis College of Engineering's flagship 12-week early-stage cohort accelerator for undergraduate students with a startup idea. Twelve top teams meet weekly, receive mentorship from a curated mentor network, attend guest lectures from industry leaders and VCs, and gain access to seed capital. Culminates in PLASMA Demo Day where teams pitch to investors and can earn tens of thousands of dollars in prize funding. Industry-agnostic; open to all UC Davis undergrads.\n\n- Phone: (530) 752-1011\n- Email: startup@ucdavis.edu  \n- Source: https://founder-nav.com/programs/recHeJQGzNTYu58as\n\n---\nBrought to you by Founder Nav, helping entrepreneurs navigate the entrepreneurial ecosystem.
DTSTART:20260425T100018Z
DTEND:20260425T103018Z
END:VEVENT
END:VCALENDAR