BEGIN:VCALENDAR
VERSION:2.0
BEGIN:VEVENT
SUMMARY:Reach out to bwtech@UMBC North about GovTech/Cyber Incubator
DESCRIPTION:Reach out to them for information about their program.\n\nDescription: A specialized incubator for government technology and cybersecurity companies located in a federal HUBZone, 8 miles from CMS headquarters and near Fort Meade. Features the CYNC post-accelerator program (free, funded by Northrop Grumman) and a dedicated Cyber Advisory Board. Has served GovCon and cybersecurity companies for 10+ years. Also offered at bwtech@UMBC South campus.\n\n- Phone: (410) 507-9299\n- Email: mcota@umbc.edu\n- Source: https://founder-nav.com/programs/recHdV30vwjNDBXLE\n\n---\nBrought to you by Founder Nav, helping entrepreneurs navigate the entrepreneurial ecosystem.
DTSTART:20260425T100014Z
DTEND:20260425T103014Z
END:VEVENT
END:VCALENDAR