BEGIN:VCALENDAR
VERSION:2.0
BEGIN:VEVENT
SUMMARY:Reach out to UConn Innovation about BUILD Hartford
DESCRIPTION:Reach out to them for information about their program.\n\nDescription: A CCEI community entrepreneurship program based in Hartford, CT, connecting local entrepreneurs with UConn resources, programs, and the broader Connecticut innovation ecosystem to support business development.\n\n- Source: https://founder-nav.com/programs/recHd1KDlpIm81UpV\n\n---\nBrought to you by Founder Nav, helping entrepreneurs navigate the entrepreneurial ecosystem.
DTSTART:20260421T100012Z
DTEND:20260421T103012Z
END:VEVENT
END:VCALENDAR