BEGIN:VCALENDAR
VERSION:2.0
BEGIN:VEVENT
SUMMARY:Reach out to Hutch about Hutch Genesis Early-Stage Accelerator
DESCRIPTION:Reach out to them for information about their program.\n\nDescription: An early-stage accelerator for founders who have at least one paying customer and some traction in government contracting. Provides structured mentorship, bootcamps, and essential tools to help participants generate first-year revenue through GovCon channels. Complements the Hutch GovTech Incubator by serving earlier-stage entrepreneurs ready to pursue government contracts.\n\n- Phone: (410) 394-9600\n- Email: hutch@fearlessinstitute.org\n- Source: https://founder-nav.com/programs/recHLU9JBkDoPHATa\n\n---\nBrought to you by Founder Nav, helping entrepreneurs navigate the entrepreneurial ecosystem.
DTSTART:20260425T100001Z
DTEND:20260425T103001Z
END:VEVENT
END:VCALENDAR