BEGIN:VCALENDAR
VERSION:2.0
BEGIN:VEVENT
SUMMARY:Reach out to University of Alaska Fairbanks about NSF I-Corps Customer Discovery Program
DESCRIPTION:Reach out to them for information about their program.\n\nDescription: A ~6-week NSF-funded Innovation Corps program at UAF Center ICE that trains entrepreneurs and researchers in customer discovery and commercialization strategies.\n\n- Email: centerice@alaska.edu\n- Source: https://founder-nav.com/programs/recHFDi4detH1NzLt\n\n---\nBrought to you by Founder Nav, helping entrepreneurs navigate the entrepreneurial ecosystem.
DTSTART:20260425T100027Z
DTEND:20260425T103027Z
END:VEVENT
END:VCALENDAR