BEGIN:VCALENDAR
VERSION:2.0
BEGIN:VEVENT
SUMMARY:Reach out to INCspire Education Foundation about Mentoring Services
DESCRIPTION:Reach out to them for information about their program.\n\nDescription: INCspire has access to hundreds of professional services providers willing to provide complimentary advisory sessions and mentoring services. These programs are a powerful method of addressing growth opportunities with your business operations.\n\n- Email: communications@restonchamber.org\n- Source: https://founder-nav.com/programs/recHDmvVDLPbeapVo\n\n---\nBrought to you by Founder Nav, helping entrepreneurs navigate the entrepreneurial ecosystem.
DTSTART:20260425T100029Z
DTEND:20260425T103029Z
END:VEVENT
END:VCALENDAR