BEGIN:VCALENDAR
VERSION:2.0
BEGIN:VEVENT
SUMMARY:Reach out to Center for Community Transformation about Rural Ignite Business Accelerator
DESCRIPTION:Reach out to them for information about their program.\n\nDescription: Equips small business and nonprofit leaders with practical skills in finance, marketing, sales, and operations through focused tracks, expert mentorship, and a collaborative network to drive sustainable growth and measurable community impact.\n\n- Phone: (559) 453-2367\n- Source: https://founder-nav.com/programs/recH9zo7xYwrRR2A9\n\n---\nBrought to you by Founder Nav, helping entrepreneurs navigate the entrepreneurial ecosystem.
DTSTART:20260425T100019Z
DTEND:20260425T103019Z
END:VEVENT
END:VCALENDAR