BEGIN:VCALENDAR
VERSION:2.0
BEGIN:VEVENT
SUMMARY:Reach out to North Idaho College SBDC about Business Training & Workshops
DESCRIPTION:Reach out to them for information about their program.\n\nDescription: Low-cost and free business training workshops for entrepreneurs in North Idaho. Topics include starting a business, marketing, financial management, government contracting, and more.\n\n- Phone: (208) 665-5085\n- Email: nisbdc@nic.edu\n- Source: https://founder-nav.com/programs/recGvZLnpF28WumlV\n\n---\nBrought to you by Founder Nav, helping entrepreneurs navigate the entrepreneurial ecosystem.
DTSTART:20260425T100028Z
DTEND:20260425T103028Z
END:VEVENT
END:VCALENDAR