BEGIN:VCALENDAR
VERSION:2.0
BEGIN:VEVENT
SUMMARY:Reach out to BioLabs San Diego about BioLabs San Diego Co-Working Lab
DESCRIPTION:Reach out to them for information about their program.\n\nDescription: A 42,000 sq ft co-working life science lab facility in Sorrento Mesa offering shared and private lab/office solutions, programming, and investor connections for biotech startups.\n\n- Phone: (858) 257-0888\n- Source: https://founder-nav.com/programs/recGsmvBJbhZqfZsd\n\n---\nBrought to you by Founder Nav, helping entrepreneurs navigate the entrepreneurial ecosystem.
DTSTART:20260425T100038Z
DTEND:20260425T103038Z
END:VEVENT
END:VCALENDAR