BEGIN:VCALENDAR
VERSION:2.0
BEGIN:VEVENT
SUMMARY:Reach out to South Piedmont Community College about Level Up Business Accelerator
DESCRIPTION:Reach out to them for information about their program.\n\nDescription: Program designed to help you develop a growth strategy to lead to increased revenues and job creation through targeted training and coaching.\n\n- Phone: (704) 272-5300\n- Source: https://founder-nav.com/programs/recGnhYQLGgghHgO9\n\n---\nBrought to you by Founder Nav, helping entrepreneurs navigate the entrepreneurial ecosystem.
DTSTART:20260425T100059Z
DTEND:20260425T103059Z
END:VEVENT
END:VCALENDAR