BEGIN:VCALENDAR
VERSION:2.0
BEGIN:VEVENT
SUMMARY:Reach out to LAUNCH Accelerator about LAUNCH Accelerator
DESCRIPTION:Reach out to them for information about their program.\n\nDescription: 14-week hybrid accelerator for pre-Series A startups with early traction, founded by Jason Calacanis. Selects only 7 startups per cohort (B2B/Marketplace: $2K+ MRR with 20%+ monthly growth). Invests $125K for 7% equity. Provides pitch coaching, go-to-market strategy refinement, access to 700+ investors, and connection to the LAUNCH network (This Week in Startups, Founder University). Mostly virtual with select in-person sessions in San Francisco.\n\n- Source: https://founder-nav.com/programs/recGhcVrckBTgmYeb\n\n---\nBrought to you by Founder Nav, helping entrepreneurs navigate the entrepreneurial ecosystem.
DTSTART:20260425T100055Z
DTEND:20260425T103055Z
END:VEVENT
END:VCALENDAR