BEGIN:VCALENDAR
VERSION:2.0
BEGIN:VEVENT
SUMMARY:Reach out to NIACC Pappajohn Entrepreneurial Center about Innovation Workspace Initiative
DESCRIPTION:Reach out to them for information about their program.\n\nDescription: Community makerspace and digital fabrication lab offering 3D printing, laser cutting, CNC milling, electronics, and project-based learning for students and entrepreneurs.\n\n- Phone: (641) 422-4111\n- Email: pappajohn@niacc.edu\n- Source: https://founder-nav.com/programs/recGh3RYD79aVT1Wx\n\n---\nBrought to you by Founder Nav, helping entrepreneurs navigate the entrepreneurial ecosystem.
DTSTART:20260425T100000Z
DTEND:20260425T103000Z
END:VEVENT
END:VCALENDAR