BEGIN:VCALENDAR
VERSION:2.0
BEGIN:VEVENT
SUMMARY:Reach out to CitySeed about CitySeed Incubates (Food Business Incubator)
DESCRIPTION:Reach out to them for information about their program.\n\nDescription: New Haven food business incubator offering affordable commercial kitchen access, one-on-one guidance, and training programs for food entrepreneurs, with a focus on BIPOC and immigrant founders.\n\n- Source: https://founder-nav.com/programs/recGTuYtyYyCy89vH\n\n---\nBrought to you by Founder Nav, helping entrepreneurs navigate the entrepreneurial ecosystem.
DTSTART:20260425T100053Z
DTEND:20260425T103053Z
END:VEVENT
END:VCALENDAR