BEGIN:VCALENDAR
VERSION:2.0
BEGIN:VEVENT
SUMMARY:Reach out to Connecticut Small Business Development Center about Capital Access Advising (Funding & Lending Guidance)
DESCRIPTION:Reach out to them for information about their program.\n\nDescription: CTSBDC Capital Access advising helps small businesses identify and prepare for funding, connecting them with lenders, angel investors, SBA loans, and other financing options.\n\n- Email: ctsbdc@uconn.edu\n- Source: https://founder-nav.com/programs/recGSp7sTvifn5h1X\n\n---\nBrought to you by Founder Nav, helping entrepreneurs navigate the entrepreneurial ecosystem.
DTSTART:20260425T100046Z
DTEND:20260425T103046Z
END:VEVENT
END:VCALENDAR