BEGIN:VCALENDAR
VERSION:2.0
BEGIN:VEVENT
SUMMARY:Reach out to Enterprise Center in Johnson County (ECJC) about LaunchU
DESCRIPTION:Reach out to them for information about their program.\n\nDescription: 8-week microenterprise development program with nationally-recognized curriculum helping early-stage entrepreneurs determine feasibility, develop business plans, and prepare for financing.\n\n- Source: https://founder-nav.com/programs/recGRyx0d4MSxzxzc\n\n---\nBrought to you by Founder Nav, helping entrepreneurs navigate the entrepreneurial ecosystem.
DTSTART:20260425T100022Z
DTEND:20260425T103022Z
END:VEVENT
END:VCALENDAR