BEGIN:VCALENDAR
VERSION:2.0
BEGIN:VEVENT
SUMMARY:Reach out to TechXel Stamford about TechXel Stamford Accelerator
DESCRIPTION:Reach out to them for information about their program.\n\nDescription: Prepares early-stage B2B ventures for funding through a 12-week mentoring program, expert series, pitch practice, and investor meetings, using Silicon Valley standards. No equity is taken; graduates receive introductions to venture capitalists.\n\n- Source: https://founder-nav.com/programs/recGGvnJqboOJuxuz\n\n---\nBrought to you by Founder Nav, helping entrepreneurs navigate the entrepreneurial ecosystem.
DTSTART:20260425T100022Z
DTEND:20260425T103022Z
END:VEVENT
END:VCALENDAR