BEGIN:VCALENDAR
VERSION:2.0
BEGIN:VEVENT
SUMMARY:Reach out to Unknown Hub about Aspire
DESCRIPTION:Reach out to them for information about their program.\n\nDescription: A 12-week, part-time program broken up into two phases that gives founders access to funding, mentorship, and invaluable resources.\n\n- Source: https://founder-nav.com/programs/recGCtnH47bhhFI6N\n\n---\nBrought to you by Founder Nav, helping entrepreneurs navigate the entrepreneurial ecosystem.
DTSTART:20260425T100015Z
DTEND:20260425T103015Z
END:VEVENT
END:VCALENDAR