BEGIN:VCALENDAR
VERSION:2.0
BEGIN:VEVENT
SUMMARY:Reach out to Idaho APEX Accelerator about Government Contracting Consulting (One-on-One)
DESCRIPTION:Reach out to them for information about their program.\n\nDescription: Free, confidential one-on-one technical assistance helping Idaho businesses sell products and services to federal, state, and local governments. Services include bid matching, registration assistance, proposal support, and market access strategies.\n\n- Phone: (208) 615-2246\n- Email: idahoapex@boisestate.edu\n- Source: https://founder-nav.com/programs/recGBbfDXYzj19mnm\n\n---\nBrought to you by Founder Nav, helping entrepreneurs navigate the entrepreneurial ecosystem.
DTSTART:20260426T100037Z
DTEND:20260426T103037Z
END:VEVENT
END:VCALENDAR