BEGIN:VCALENDAR
VERSION:2.0
BEGIN:VEVENT
SUMMARY:Reach out to Fast Forward about Fast Forward Tech Nonprofit Accelerator
DESCRIPTION:Reach out to them for information about their program.\n\nDescription: A 3-month accelerator exclusively for tech nonprofits with a working MVP. Provides $25K+ in grant funding (no equity) and post-program support through the Growth Platform. Based in San Francisco, serving nonprofits using technology for social good.\n\n- Email: hello@ffwd.org\n- Source: https://founder-nav.com/programs/recGB9VGKU43EhGGr\n\n---\nBrought to you by Founder Nav, helping entrepreneurs navigate the entrepreneurial ecosystem.
DTSTART:20260425T100042Z
DTEND:20260425T103042Z
END:VEVENT
END:VCALENDAR