BEGIN:VCALENDAR
VERSION:2.0
BEGIN:VEVENT
SUMMARY:Reach out to Maryland Energy Innovation Accelerator about MEIA Pre-Accelerator Program
DESCRIPTION:Reach out to them for information about their program.\n\nDescription: A two-month customer discovery and commercialization program for the earliest-stage clean energy and climate technology inventors from Maryland universities and federal labs. The Pre-Accelerator helps researchers validate market opportunities and determine the commercial viability of their technology before entering more intensive programming.\n\n- Source: https://founder-nav.com/programs/recG4J8L1ihBTupTJ\n\n---\nBrought to you by Founder Nav, helping entrepreneurs navigate the entrepreneurial ecosystem.
DTSTART:20260425T100002Z
DTEND:20260425T103002Z
END:VEVENT
END:VCALENDAR