BEGIN:VCALENDAR
VERSION:2.0
BEGIN:VEVENT
SUMMARY:Reach out to Sky Islands Regional Partnership about Sky Islands Business Incubator
DESCRIPTION:Reach out to them for information about their program.\n\nDescription: A community-focused business incubator in the Sky Islands region of Southern Arizona providing support services, mentorship, and resources for local entrepreneurs in rural and border communities.\n\n- Source: https://founder-nav.com/programs/recFtk1543eq6Vo0g\n\n---\nBrought to you by Founder Nav, helping entrepreneurs navigate the entrepreneurial ecosystem.
DTSTART:20260425T100040Z
DTEND:20260425T103040Z
END:VEVENT
END:VCALENDAR