BEGIN:VCALENDAR
VERSION:2.0
BEGIN:VEVENT
SUMMARY:Reach out to Astral Ventures about Astral Ventures Accelerator
DESCRIPTION:Reach out to them for information about their program.\n\nDescription: Provides free technology strategy consultations to help East Bay small businesses modernize operations, improve digital presence, and compete with larger retailers through tailored solutions and ongoing support.\n\n- Phone: (510) 296-9572\n- Email: connect@astral.ventures\n- Source: https://founder-nav.com/programs/recFo99snS2l2u3id\n\n---\nBrought to you by Founder Nav, helping entrepreneurs navigate the entrepreneurial ecosystem.
DTSTART:20260425T100037Z
DTEND:20260425T103037Z
END:VEVENT
END:VCALENDAR