BEGIN:VCALENDAR
VERSION:2.0
BEGIN:VEVENT
SUMMARY:Reach out to Port of San Diego  about Blue Economy Incubator (BEI)
DESCRIPTION:Reach out to them for information about their program.\n\nDescription: The world's only port-led incubator, established 2016. Supports sustainable aquaculture and port-related blue tech ventures through pilot project facilitation, funding, access to key port assets, and permitting/entitlement assistance. $2.35M in direct funding provided to 12 portfolio companies that have collectively leveraged $5.8M in R&D funds.\n\n- Email: incubator@portofsandiego.org\n- Source: https://founder-nav.com/programs/recFk21EdVmsxzPw1\n\n---\nBrought to you by Founder Nav, helping entrepreneurs navigate the entrepreneurial ecosystem.
DTSTART:20260425T100022Z
DTEND:20260425T103022Z
END:VEVENT
END:VCALENDAR