BEGIN:VCALENDAR
VERSION:2.0
BEGIN:VEVENT
SUMMARY:Reach out to Mid-Atlantic Veterans Business Outreach Center - Maryland Innovation Center about Boots to Business Reboot (B2BR)
DESCRIPTION:Reach out to them for information about their program.\n\nDescription: A one-day SBA entrepreneurship training program that extends Boots to Business education to veterans of all eras, National Guard/Reserve members, and military spouses who may not have access to on-base training. Provides an overview of business ownership as a career path, business plan components, opportunity recognition, and available public and private resources.\n\n- Source: https://founder-nav.com/programs/recFVLM1vnyktIm3g\n\n---\nBrought to you by Founder Nav, helping entrepreneurs navigate the entrepreneurial ecosystem.
DTSTART:20260425T100023Z
DTEND:20260425T103023Z
END:VEVENT
END:VCALENDAR