BEGIN:VCALENDAR
VERSION:2.0
BEGIN:VEVENT
SUMMARY:Reach out to Enterprise Center in Johnson County (ECJC) about Women's Business Center
DESCRIPTION:Reach out to them for information about their program.\n\nDescription: The only Women's Business Center in Kansas, providing mentoring, education, workshops, networking, and connections to capital for women entrepreneurs and small business owners.\n\n- Source: https://founder-nav.com/programs/recFCRfiuHEIwwLu4\n\n---\nBrought to you by Founder Nav, helping entrepreneurs navigate the entrepreneurial ecosystem.
DTSTART:20260425T100016Z
DTEND:20260425T103016Z
END:VEVENT
END:VCALENDAR