BEGIN:VCALENDAR
VERSION:2.0
BEGIN:VEVENT
SUMMARY:Reach out to Center For Entrepreneurship & Innovation (CEI) about CEI Venture Accelerator (Boot Camp)
DESCRIPTION:Reach out to them for information about their program.\n\nDescription: Offers a free 10-week entrepreneurship boot camp for the CSUB and Kern County community, providing guidance from faculty and industry experts on venture creation, technology, marketing, financials, and legal essentials.\n\n- Phone: (661) 654-2023\n- Email: dcours@csub.edu\n- Source: https://founder-nav.com/programs/recF9FKYHuzUTFFu3\n\n---\nBrought to you by Founder Nav, helping entrepreneurs navigate the entrepreneurial ecosystem.
DTSTART:20260425T100044Z
DTEND:20260425T103044Z
END:VEVENT
END:VCALENDAR