BEGIN:VCALENDAR
VERSION:2.0
BEGIN:VEVENT
SUMMARY:Reach out to bwtech@UMBC South about Entrepreneurs in Residence (EiR)
DESCRIPTION:Reach out to them for information about their program.\n\nDescription: A free mentorship program offering one-on-one guidance from 8 seasoned Entrepreneurs in Residence with expertise spanning bio-life sciences, AI, cybersecurity, health tech, finance, and marketing. Notable EiR: David Fink (bio-life sciences, 40+ years experience, 25 patents). Open to entrepreneurs at any stage. Also available at bwtech@UMBC North campus.\n\n- Phone: (410) 507-9299\n- Email: mcota@umbc.edu\n- Source: https://founder-nav.com/programs/recF7UKi9DpYCj92M\n\n---\nBrought to you by Founder Nav, helping entrepreneurs navigate the entrepreneurial ecosystem.
DTSTART:20260425T100038Z
DTEND:20260425T103038Z
END:VEVENT
END:VCALENDAR