BEGIN:VCALENDAR
VERSION:2.0
BEGIN:VEVENT
SUMMARY:Reach out to Unknown Hub about Business Concept Clinic
DESCRIPTION:Reach out to them for information about their program.\n\nDescription: Guides aspiring entrepreneurs in the pre-venture stage to develop a comprehensive business blueprint through an 8-session virtual course, featuring expert instruction, peer interaction, and practical tools, with an opportunity to apply for a start-up grant.\n\n- Email: kbanks@ctwbdc.org\n- Source: https://founder-nav.com/programs/recF6OJVoDyEIi2zZ\n\n---\nBrought to you by Founder Nav, helping entrepreneurs navigate the entrepreneurial ecosystem.
DTSTART:20260425T100051Z
DTEND:20260425T103051Z
END:VEVENT
END:VCALENDAR