BEGIN:VCALENDAR
VERSION:2.0
BEGIN:VEVENT
SUMMARY:Reach out to Venture Asheville about Inspire
DESCRIPTION:Reach out to them for information about their program.\n\nDescription: Luminary Incubator, is an initiative designed to support and empower the leaders and experts significantly advancing the startup ecosystem in the Asheville area through their ventures, leadership, and community stewardship.\n\n- Email: jkaplan@ventureasheville.com\n- Source: https://founder-nav.com/programs/recF5UX01opVxhNm3\n\n---\nBrought to you by Founder Nav, helping entrepreneurs navigate the entrepreneurial ecosystem.
DTSTART:20260425T100003Z
DTEND:20260425T103003Z
END:VEVENT
END:VCALENDAR