BEGIN:VCALENDAR
VERSION:2.0
BEGIN:VEVENT
SUMMARY:Reach out to Harrisonburg Development about LAUNCH Harrisonburg
DESCRIPTION:Reach out to them for information about their program.\n\nDescription: Ten-week program that equips aspiring entrepreneurs with the insights, relationships, and tools needed to turn business ideas into action and turn a passion into a sustainable and thriving business. For aspiring entrepreneurs, or seasoned entrepreneurs looking to launch a new product or service.\n\n- Phone: (540) 432-770\n- Email: econ_dev@harrisonburgva.gov\n- Source: https://founder-nav.com/programs/recF4igUIKrE2jxur\n\n---\nBrought to you by Founder Nav, helping entrepreneurs navigate the entrepreneurial ecosystem.
DTSTART:20260425T100038Z
DTEND:20260425T103038Z
END:VEVENT
END:VCALENDAR